BEGIN:VCALENDAR
VERSION:2.0
PRODID:-//Timber River Connections - ECPv6.15.17.1//NONSGML v1.0//EN
CALSCALE:GREGORIAN
METHOD:PUBLISH
X-WR-CALNAME:Timber River Connections
X-ORIGINAL-URL:https://timberriverconnections.org
X-WR-CALDESC:Events for Timber River Connections
REFRESH-INTERVAL;VALUE=DURATION:PT1H
X-Robots-Tag:noindex
X-PUBLISHED-TTL:PT1H
BEGIN:VTIMEZONE
TZID:UTC
BEGIN:STANDARD
TZOFFSETFROM:+0000
TZOFFSETTO:+0000
TZNAME:UTC
DTSTART:20240101T000000
END:STANDARD
END:VTIMEZONE
BEGIN:VEVENT
DTSTART;TZID=UTC:20251024T170000
DTEND;TZID=UTC:20251024T193000
DTSTAMP:20260419T143541
CREATED:20251021T191149Z
LAST-MODIFIED:20251021T191149Z
UID:1906-1761325200-1761334200@timberriverconnections.org
SUMMARY:Dinner & Dance @ TRC Twin Cities Center
DESCRIPTION:
URL:https://timberriverconnections.org/event/dinner-dance-trc-twin-cities-center/
LOCATION:Twin Cities Center\, 2545 N National Ave\, Chehalis\, WA\, 98532\, United States
CATEGORIES:Music
END:VEVENT
BEGIN:VEVENT
DTSTART;TZID=UTC:20251029T130000
DTEND;TZID=UTC:20251029T150000
DTSTAMP:20260419T143541
CREATED:20251003T180210Z
LAST-MODIFIED:20251003T180210Z
UID:1889-1761742800-1761750000@timberriverconnections.org
SUMMARY:Art Class w/ Casey at TRC Twin Cities Center
DESCRIPTION:
URL:https://timberriverconnections.org/event/art-class-w-casey-at-trc-twin-cities-center/
LOCATION:Twin Cities Center\, 2545 N National Ave\, Chehalis\, WA\, 98532\, United States
CATEGORIES:Art
END:VEVENT
BEGIN:VEVENT
DTSTART;TZID=UTC:20251031T100000
DTEND;TZID=UTC:20251031T150000
DTSTAMP:20260419T143541
CREATED:20251003T175958Z
LAST-MODIFIED:20251003T180017Z
UID:1887-1761904800-1761922800@timberriverconnections.org
SUMMARY:Halloween Costume Contest
DESCRIPTION:
URL:https://timberriverconnections.org/event/halloween-costume-contest/
LOCATION:Twin Cities Center\, 2545 N National Ave\, Chehalis\, WA\, 98532\, United States
CATEGORIES:Community Event
END:VEVENT
BEGIN:VEVENT
DTSTART;TZID=UTC:20251031T110000
DTEND;TZID=UTC:20251031T123000
DTSTAMP:20260419T143541
CREATED:20251003T175913Z
LAST-MODIFIED:20251003T175913Z
UID:1885-1761908400-1761913800@timberriverconnections.org
SUMMARY:Live Music w/ Becky West @ TRC Twin Cities Center
DESCRIPTION:
URL:https://timberriverconnections.org/event/live-music-w-becky-west-trc-twin-cities-center/
LOCATION:Twin Cities Center\, 2545 N National Ave\, Chehalis\, WA\, 98532\, United States
CATEGORIES:Music
END:VEVENT
BEGIN:VEVENT
DTSTART;TZID=UTC:20251107T100000
DTEND;TZID=UTC:20251107T123000
DTSTAMP:20260419T143541
CREATED:20251107T152019Z
LAST-MODIFIED:20251107T152019Z
UID:1918-1762509600-1762518600@timberriverconnections.org
SUMMARY:Live Music w/ Bart Herigstad
DESCRIPTION:
URL:https://timberriverconnections.org/event/live-music-w-bart-herigstad/
LOCATION:Twin Cities Center\, 2545 N National Ave\, Chehalis\, WA\, 98532\, United States
CATEGORIES:Music
END:VEVENT
BEGIN:VEVENT
DTSTART;TZID=UTC:20251107T100000
DTEND;TZID=UTC:20251107T133000
DTSTAMP:20260419T143541
CREATED:20251107T151928Z
LAST-MODIFIED:20251107T151928Z
UID:1915-1762509600-1762522200@timberriverconnections.org
SUMMARY:Monthly Swap Meet
DESCRIPTION:
URL:https://timberriverconnections.org/event/monthly-swap-meet/
LOCATION:Twin Cities Center\, 2545 N National Ave\, Chehalis\, WA\, 98532\, United States
CATEGORIES:Community Event
END:VEVENT
BEGIN:VEVENT
DTSTART;TZID=UTC:20251107T100000
DTEND;TZID=UTC:20251107T233000
DTSTAMP:20260419T143541
CREATED:20251107T151824Z
LAST-MODIFIED:20251107T151824Z
UID:1912-1762509600-1762558200@timberriverconnections.org
SUMMARY:Bingo w/ Assured Hospice
DESCRIPTION:
URL:https://timberriverconnections.org/event/bingo-w-assured-hospice-2/
LOCATION:Twin Cities Center\, 2545 N National Ave\, Chehalis\, WA\, 98532\, United States
CATEGORIES:Bingo
END:VEVENT
BEGIN:VEVENT
DTSTART;TZID=UTC:20251115T140000
DTEND;TZID=UTC:20251115T160000
DTSTAMP:20260419T143541
CREATED:20251107T152131Z
LAST-MODIFIED:20251107T152131Z
UID:1921-1763215200-1763222400@timberriverconnections.org
SUMMARY:Monthly Dinner & Dance
DESCRIPTION:
URL:https://timberriverconnections.org/event/monthly-dinner-dance/
LOCATION:Twin Cities Center\, 2545 N National Ave\, Chehalis\, WA\, 98532\, United States
CATEGORIES:Dance,Music
END:VEVENT
BEGIN:VEVENT
DTSTART;TZID=UTC:20251118T173000
DTEND;TZID=UTC:20251118T200000
DTSTAMP:20260419T143541
CREATED:20251107T152230Z
LAST-MODIFIED:20251107T152230Z
UID:1924-1763487000-1763496000@timberriverconnections.org
SUMMARY:Bingo Night
DESCRIPTION:
URL:https://timberriverconnections.org/event/bingo-night/
LOCATION:Twin Cities Center\, 2545 N National Ave\, Chehalis\, WA\, 98532\, United States
CATEGORIES:Bingo
END:VEVENT
BEGIN:VEVENT
DTSTART;TZID=UTC:20251121T110000
DTEND;TZID=UTC:20251121T123000
DTSTAMP:20260419T143541
CREATED:20251107T152325Z
LAST-MODIFIED:20251107T152325Z
UID:1927-1763722800-1763728200@timberriverconnections.org
SUMMARY:Live Music w/ Becky West
DESCRIPTION:
URL:https://timberriverconnections.org/event/live-music-w-becky-west/
LOCATION:Twin Cities Center\, 2545 N National Ave\, Chehalis\, WA\, 98532\, United States
CATEGORIES:Music
END:VEVENT
BEGIN:VEVENT
DTSTART;TZID=UTC:20251205T000000
DTEND;TZID=UTC:20251206T235959
DTSTAMP:20260419T143541
CREATED:20251205T165224Z
LAST-MODIFIED:20251205T165224Z
UID:1993-1764892800-1765065599@timberriverconnections.org
SUMMARY:TRC Morton Holiday Bazaar
DESCRIPTION:
URL:https://timberriverconnections.org/event/trc-morton-holiday-bazaar/
LOCATION:Morton Center\, 103 Westlake Ave\, Morton\, WA\, 98356\, United States
CATEGORIES:Community Event
END:VEVENT
BEGIN:VEVENT
DTSTART;TZID=UTC:20251205T100000
DTEND;TZID=UTC:20251205T113000
DTSTAMP:20260419T143541
CREATED:20251205T161515Z
LAST-MODIFIED:20251205T161515Z
UID:1949-1764928800-1764934200@timberriverconnections.org
SUMMARY:Bingo with Assured Hospice
DESCRIPTION:
URL:https://timberriverconnections.org/event/bingo-with-assured-hospice/
LOCATION:Twin Cities Center\, 2545 N National Ave\, Chehalis\, WA\, 98532\, United States
CATEGORIES:Bingo
END:VEVENT
BEGIN:VEVENT
DTSTART;TZID=UTC:20251206T000000
DTEND;TZID=UTC:20251207T235959
DTSTAMP:20260419T143541
CREATED:20251205T163015Z
LAST-MODIFIED:20251205T163015Z
UID:1976-1764979200-1765151999@timberriverconnections.org
SUMMARY:TRC Packwood Christmas Bazaar
DESCRIPTION:
URL:https://timberriverconnections.org/event/trc-packwood-christmas-bazaar/
LOCATION:WA
CATEGORIES:Community Event,Crafts
END:VEVENT
BEGIN:VEVENT
DTSTART;TZID=UTC:20251206T160000
DTEND;TZID=UTC:20251206T180000
DTSTAMP:20260419T143541
CREATED:20251205T163453Z
LAST-MODIFIED:20251205T163559Z
UID:1982-1765036800-1765044000@timberriverconnections.org
SUMMARY:Ham Bingo at TRC Winlock Center
DESCRIPTION:Enjoy a night out with a chance to win a ham! Play until hams are gone. Food & Drinks available for purchase. \n$10 per card or 3 for $25 \n119 SW Kerron St.\, Winlock \nThis will help continue the center’s operations. Thank you!
URL:https://timberriverconnections.org/event/ham-bingo-at-toledo-center/
LOCATION:Winlock Center\, 119 Kerron Street\, Winlock\, WA\, 98596\, United States
CATEGORIES:Bingo,Community Event
END:VEVENT
BEGIN:VEVENT
DTSTART;TZID=UTC:20251209T120000
DTEND;TZID=UTC:20251209T130000
DTSTAMP:20260419T143541
CREATED:20251205T162020Z
LAST-MODIFIED:20251205T162020Z
UID:1959-1765281600-1765285200@timberriverconnections.org
SUMMARY:Create Your Own Christmas Card
DESCRIPTION:
URL:https://timberriverconnections.org/event/create-your-own-christmas-card/
LOCATION:Twin Cities Center\, 2545 N National Ave\, Chehalis\, WA\, 98532\, United States
CATEGORIES:Crafts
END:VEVENT
BEGIN:VEVENT
DTSTART;TZID=UTC:20251212T100000
DTEND;TZID=UTC:20251212T133000
DTSTAMP:20260419T143542
CREATED:20251205T162128Z
LAST-MODIFIED:20251205T162314Z
UID:1961-1765533600-1765546200@timberriverconnections.org
SUMMARY:Monthly Swap Meet
DESCRIPTION:
URL:https://timberriverconnections.org/event/monthly-swap-meet-2/
LOCATION:Twin Cities Center\, 2545 N National Ave\, Chehalis\, WA\, 98532\, United States
CATEGORIES:Community Event
END:VEVENT
BEGIN:VEVENT
DTSTART;TZID=UTC:20251213T110000
DTEND;TZID=UTC:20251213T150000
DTSTAMP:20260419T143542
CREATED:20251205T164321Z
LAST-MODIFIED:20251205T164336Z
UID:1988-1765623600-1765638000@timberriverconnections.org
SUMMARY:TRC Packwood Gift Wrapping Fundraiser
DESCRIPTION:Gift Wrapping Fundraiser for Packwood Sr Center at Longmire Springs Packwood Saturday Market\, 12/13\, 11a-3p. Get your Christmas Gifts wrapped by volunteers. Gifts do not have to be purchased at the market. Credit Cards\, Cash or Check accepted.
URL:https://timberriverconnections.org/event/gift-wrapping-fundraiser/
LOCATION:Packwood Center\, 12931 US-12\, Packwood\, Washington\, 98361
CATEGORIES:Community Event
END:VEVENT
BEGIN:VEVENT
DTSTART;TZID=UTC:20251216T180000
DTEND;TZID=UTC:20251216T200000
DTSTAMP:20260419T143542
CREATED:20251205T162239Z
LAST-MODIFIED:20251205T162239Z
UID:1963-1765908000-1765915200@timberriverconnections.org
SUMMARY:Bingo Night
DESCRIPTION:
URL:https://timberriverconnections.org/event/bingo-night-2/
LOCATION:Twin Cities Center\, 2545 N National Ave\, Chehalis\, WA\, 98532\, United States
CATEGORIES:Bingo,Community Event
END:VEVENT
BEGIN:VEVENT
DTSTART;TZID=UTC:20251218T120000
DTEND;TZID=UTC:20251218T130000
DTSTAMP:20260419T143542
CREATED:20251205T162432Z
LAST-MODIFIED:20251205T162432Z
UID:1965-1766059200-1766062800@timberriverconnections.org
SUMMARY:Christmas Ornament Decorating
DESCRIPTION:
URL:https://timberriverconnections.org/event/christmas-ornament-decorating/
LOCATION:Twin Cities Center\, 2545 N National Ave\, Chehalis\, WA\, 98532\, United States
CATEGORIES:Community Event,Crafts
END:VEVENT
BEGIN:VEVENT
DTSTART;TZID=UTC:20251219T100000
DTEND;TZID=UTC:20251219T120000
DTSTAMP:20260419T143542
CREATED:20251205T162527Z
LAST-MODIFIED:20251205T162527Z
UID:1967-1766138400-1766145600@timberriverconnections.org
SUMMARY:Live Music with Matt Gurley
DESCRIPTION:
URL:https://timberriverconnections.org/event/live-music-with-matt-gurley/
LOCATION:Twin Cities Center\, 2545 N National Ave\, Chehalis\, WA\, 98532\, United States
CATEGORIES:Community Event,Music
END:VEVENT
BEGIN:VEVENT
DTSTART;TZID=UTC:20251219T100000
DTEND;TZID=UTC:20251219T140000
DTSTAMP:20260419T143542
CREATED:20251205T162843Z
LAST-MODIFIED:20251205T162843Z
UID:1973-1766138400-1766152800@timberriverconnections.org
SUMMARY:TRC Resource Fair at Toledo Center
DESCRIPTION:
URL:https://timberriverconnections.org/event/trc-resource-fair-at-toledo-center/
LOCATION:Toledo Senior Center\, 150 Coal St\, Toledo\, WA\, 98591\, United States
CATEGORIES:Community Event
END:VEVENT
BEGIN:VEVENT
DTSTART;TZID=UTC:20251220T073000
DTEND;TZID=UTC:20251220T100000
DTSTAMP:20260419T143542
CREATED:20251205T163133Z
LAST-MODIFIED:20251205T163133Z
UID:1979-1766215800-1766224800@timberriverconnections.org
SUMMARY:Saturday Breakfast Fundraiser
DESCRIPTION:
URL:https://timberriverconnections.org/event/saturday-breakfast-fundraiser/
LOCATION:Twin Cities Center\, 2545 N National Ave\, Chehalis\, WA\, 98532\, United States
CATEGORIES:Community Event
END:VEVENT
BEGIN:VEVENT
DTSTART;TZID=UTC:20251220T080000
DTEND;TZID=UTC:20251220T110000
DTSTAMP:20260419T143542
CREATED:20251205T163918Z
LAST-MODIFIED:20251205T163918Z
UID:1985-1766217600-1766228400@timberriverconnections.org
SUMMARY:TRC Packwood Saturday Breakfast
DESCRIPTION:Start your Saturday right with a good breakfast at the Packwood TRC Center\, 3rd Saturday\, 8a-11a. You have your choice of pancakes\, scrambled eggs and sausage or biscuits and sausage gravy and scrambled eggs for $12. Add OJ or Coffee for $1. All proceeds benefit the Packwood TRC Center. Proceeds help subsidize Senior meals and keep prices low for the Seniors. All ages welcome.
URL:https://timberriverconnections.org/event/trc-packwood-saturday-breakfast/
LOCATION:Packwood Center\, 12931 US-12\, Packwood\, Washington\, 98361
CATEGORIES:Community Event
END:VEVENT
BEGIN:VEVENT
DTSTART;TZID=UTC:20251220T110000
DTEND;TZID=UTC:20251220T150000
DTSTAMP:20260419T143542
CREATED:20251205T164837Z
LAST-MODIFIED:20251205T164837Z
UID:1991-1766228400-1766242800@timberriverconnections.org
SUMMARY:TRC Packwood Gift Wrapping Fundraiser
DESCRIPTION:Gift Wrapping Fundraiser for Packwood Sr Center at Longmire Springs Packwood Saturday Market\, 12/20\, 11a-3p. Get your Christmas Gifts wrapped by volunteers. Gifts do not have to be purchased at the market. Donations can be accepted by Credit Cards\, Cash or Check.
URL:https://timberriverconnections.org/event/trc-packwood-gift-wrapping-fundraiser/
LOCATION:Packwood Center\, 12931 US-12\, Packwood\, Washington\, 98361
CATEGORIES:Community Event
END:VEVENT
BEGIN:VEVENT
DTSTART;TZID=UTC:20251223T100000
DTEND;TZID=UTC:20251223T120000
DTSTAMP:20260419T143542
CREATED:20251205T162639Z
LAST-MODIFIED:20251205T162639Z
UID:1969-1766484000-1766491200@timberriverconnections.org
SUMMARY:Pictures w/ Santa & Christmas Cookie Decorating
DESCRIPTION:
URL:https://timberriverconnections.org/event/pictures-w-santa-christmas-cookie-decorating/
LOCATION:Twin Cities Center\, 2545 N National Ave\, Chehalis\, WA\, 98532\, United States
CATEGORIES:Community Event,Crafts
END:VEVENT
BEGIN:VEVENT
DTSTART;TZID=UTC:20251225T000000
DTEND;TZID=UTC:20251225T235959
DTSTAMP:20260419T143542
CREATED:20251205T162734Z
LAST-MODIFIED:20251205T162734Z
UID:1971-1766620800-1766707199@timberriverconnections.org
SUMMARY:CLOSED FOR CHRISTMAS
DESCRIPTION:
URL:https://timberriverconnections.org/event/closed-for-christmas/
LOCATION:WA
CATEGORIES:Art,Bingo,Community Event,Crafts,Dance,Fitness,Games,Music
END:VEVENT
BEGIN:VEVENT
DTSTART;TZID=UTC:20260102T100000
DTEND;TZID=UTC:20260102T113000
DTSTAMP:20260419T143542
CREATED:20260108T180917Z
LAST-MODIFIED:20260108T180917Z
UID:2030-1767348000-1767353400@timberriverconnections.org
SUMMARY:Bingo with Assured Hospice
DESCRIPTION:
URL:https://timberriverconnections.org/event/bingo-with-assured-hospice-2/
LOCATION:Twin Cities Center\, 2545 N National Ave\, Chehalis\, WA\, 98532\, United States
CATEGORIES:Bingo
END:VEVENT
BEGIN:VEVENT
DTSTART;TZID=UTC:20260102T100000
DTEND;TZID=UTC:20260102T133000
DTSTAMP:20260419T143542
CREATED:20260108T180813Z
LAST-MODIFIED:20260108T180813Z
UID:2028-1767348000-1767360600@timberriverconnections.org
SUMMARY:Monthly Swap Meet
DESCRIPTION:
URL:https://timberriverconnections.org/event/monthly-swap-meet-3/
LOCATION:Twin Cities Center\, 2545 N National Ave\, Chehalis\, WA\, 98532\, United States
CATEGORIES:Community Event
END:VEVENT
BEGIN:VEVENT
DTSTART;TZID=UTC:20260114T100000
DTEND;TZID=UTC:20260114T140000
DTSTAMP:20260419T143542
CREATED:20260108T181050Z
LAST-MODIFIED:20260108T181050Z
UID:2032-1768384800-1768399200@timberriverconnections.org
SUMMARY:Monthly Resource Fair
DESCRIPTION:
URL:https://timberriverconnections.org/event/monthly-resource-fair/
LOCATION:Twin Cities Center\, 2545 N National Ave\, Chehalis\, WA\, 98532\, United States
CATEGORIES:Community Event
END:VEVENT
BEGIN:VEVENT
DTSTART;TZID=UTC:20260116T100000
DTEND;TZID=UTC:20260116T120000
DTSTAMP:20260419T143542
CREATED:20260108T180235Z
LAST-MODIFIED:20260108T180235Z
UID:2010-1768557600-1768564800@timberriverconnections.org
SUMMARY:Live Music w/ Bart Herigstad
DESCRIPTION:
URL:https://timberriverconnections.org/event/live-music-w-bart-herigstad-2/
LOCATION:Twin Cities Center\, 2545 N National Ave\, Chehalis\, WA\, 98532\, United States
CATEGORIES:Music
END:VEVENT
END:VCALENDAR