BEGIN:VCALENDAR
VERSION:2.0
PRODID:-//Timber River Connections - ECPv6.15.17.1//NONSGML v1.0//EN
CALSCALE:GREGORIAN
METHOD:PUBLISH
X-WR-CALNAME:Timber River Connections
X-ORIGINAL-URL:https://timberriverconnections.org
X-WR-CALDESC:Events for Timber River Connections
REFRESH-INTERVAL;VALUE=DURATION:PT1H
X-Robots-Tag:noindex
X-PUBLISHED-TTL:PT1H
BEGIN:VTIMEZONE
TZID:UTC
BEGIN:STANDARD
TZOFFSETFROM:+0000
TZOFFSETTO:+0000
TZNAME:UTC
DTSTART:20240101T000000
END:STANDARD
END:VTIMEZONE
BEGIN:VEVENT
DTSTART;TZID=UTC:20250827T180000
DTEND;TZID=UTC:20250827T200000
DTSTAMP:20260423T092831
CREATED:20250808T175424Z
LAST-MODIFIED:20250808T175424Z
UID:1820-1756317600-1756324800@timberriverconnections.org
SUMMARY:Art Class w/ Casey
DESCRIPTION:
URL:https://timberriverconnections.org/event/art-class-w-casey/
LOCATION:Twin Cities Center\, 2545 N National Ave\, Chehalis\, WA\, 98532\, United States
CATEGORIES:Art
END:VEVENT
BEGIN:VEVENT
DTSTART;TZID=UTC:20250822T170000
DTEND;TZID=UTC:20250822T190000
DTSTAMP:20260423T092831
CREATED:20250808T175336Z
LAST-MODIFIED:20250808T175336Z
UID:1818-1755882000-1755889200@timberriverconnections.org
SUMMARY:Monthly Dinner & Dance @ TRC Twin Cities
DESCRIPTION:
URL:https://timberriverconnections.org/event/monthly-dinner-dance-trc-twin-cities/
LOCATION:Twin Cities Center\, 2545 N National Ave\, Chehalis\, WA\, 98532\, United States
CATEGORIES:Music
END:VEVENT
BEGIN:VEVENT
DTSTART;TZID=UTC:20250822T100000
DTEND;TZID=UTC:20250822T140000
DTSTAMP:20260423T092831
CREATED:20250808T175243Z
LAST-MODIFIED:20250808T175243Z
UID:1816-1755856800-1755871200@timberriverconnections.org
SUMMARY:Open Mic + Live Music w/ Vern & Darrin
DESCRIPTION:
URL:https://timberriverconnections.org/event/open-mic-live-music-w-vern-darrin-2/
LOCATION:Twin Cities Center\, 2545 N National Ave\, Chehalis\, WA\, 98532\, United States
CATEGORIES:Music
END:VEVENT
BEGIN:VEVENT
DTSTART;TZID=UTC:20250820T100000
DTEND;TZID=UTC:20250820T110000
DTSTAMP:20260423T092831
CREATED:20250808T175145Z
LAST-MODIFIED:20250808T175145Z
UID:1814-1755684000-1755687600@timberriverconnections.org
SUMMARY:Veterans Meeting
DESCRIPTION:
URL:https://timberriverconnections.org/event/veterans-meeting/
LOCATION:Twin Cities Center\, 2545 N National Ave\, Chehalis\, WA\, 98532\, United States
CATEGORIES:Community Event
END:VEVENT
BEGIN:VEVENT
DTSTART;TZID=UTC:20250819T180000
DTEND;TZID=UTC:20250819T200000
DTSTAMP:20260423T092831
CREATED:20250808T175053Z
LAST-MODIFIED:20250808T175053Z
UID:1812-1755626400-1755633600@timberriverconnections.org
SUMMARY:Bingo Night w/ Dinner Served (Optional)
DESCRIPTION:
URL:https://timberriverconnections.org/event/bingo-night-w-dinner-served-optional/
LOCATION:Twin Cities Center\, 2545 N National Ave\, Chehalis\, WA\, 98532\, United States
CATEGORIES:Bingo,Community Event
END:VEVENT
BEGIN:VEVENT
DTSTART;TZID=UTC:20250816T073000
DTEND;TZID=UTC:20250816T100000
DTSTAMP:20260423T092831
CREATED:20250808T175512Z
LAST-MODIFIED:20250808T175512Z
UID:1822-1755329400-1755338400@timberriverconnections.org
SUMMARY:3rd Saturday Monthly Breakfast
DESCRIPTION:
URL:https://timberriverconnections.org/event/3rd-saturday-monthly-breakfast/
LOCATION:Twin Cities Center\, 2545 N National Ave\, Chehalis\, WA\, 98532\, United States
CATEGORIES:Community Event
END:VEVENT
BEGIN:VEVENT
DTSTART;TZID=UTC:20250812T080000
DTEND;TZID=UTC:20250817T170000
DTSTAMP:20260423T092831
CREATED:20250808T174928Z
LAST-MODIFIED:20250808T174928Z
UID:1810-1754985600-1755450000@timberriverconnections.org
SUMMARY:Fair Parking @ TRC Twin Cities Center (Tuesday-Saturday)
DESCRIPTION:
URL:https://timberriverconnections.org/event/fair-parking-trc-twin-cities-center-tuesday-saturday/
LOCATION:Twin Cities Center\, 2545 N National Ave\, Chehalis\, WA\, 98532\, United States
CATEGORIES:Community Event
END:VEVENT
BEGIN:VEVENT
DTSTART;TZID=UTC:20250808T100000
DTEND;TZID=UTC:20250808T140000
DTSTAMP:20260423T092831
CREATED:20250808T174810Z
LAST-MODIFIED:20250808T174810Z
UID:1808-1754647200-1754661600@timberriverconnections.org
SUMMARY:Open Mic + Live Music w/ Vern & Darrin
DESCRIPTION:
URL:https://timberriverconnections.org/event/open-mic-live-music-w-vern-darrin/
LOCATION:Twin Cities Center\, 2545 N National Ave\, Chehalis\, WA\, 98532\, United States
CATEGORIES:Music
END:VEVENT
BEGIN:VEVENT
DTSTART;TZID=UTC:20250801T100000
DTEND;TZID=UTC:20250801T233000
DTSTAMP:20260423T092831
CREATED:20250808T174552Z
LAST-MODIFIED:20250808T174617Z
UID:1793-1754042400-1754091000@timberriverconnections.org
SUMMARY:Bingo w/ Assured Hospice
DESCRIPTION:
URL:https://timberriverconnections.org/event/bingo-w-assured-hospice/
LOCATION:Twin Cities Center\, 2545 N National Ave\, Chehalis\, WA\, 98532\, United States
CATEGORIES:Bingo,Community Event,Games
END:VEVENT
BEGIN:VEVENT
DTSTART;TZID=UTC:20250801T100000
DTEND;TZID=UTC:20250801T140000
DTSTAMP:20260423T092831
CREATED:20250808T174716Z
LAST-MODIFIED:20250808T174716Z
UID:1806-1754042400-1754056800@timberriverconnections.org
SUMMARY:Monthly Swap Meet Event
DESCRIPTION:
URL:https://timberriverconnections.org/event/monthly-swap-meet-event/
LOCATION:Twin Cities Center\, 2545 N National Ave\, Chehalis\, WA\, 98532\, United States
CATEGORIES:Community Event
END:VEVENT
BEGIN:VEVENT
DTSTART;TZID=UTC:20250714T090000
DTEND;TZID=UTC:20250714T100000
DTSTAMP:20260423T092831
CREATED:20250711T185150Z
LAST-MODIFIED:20250711T185150Z
UID:1786-1752483600-1752487200@timberriverconnections.org
SUMMARY:SAIL Exercise Class
DESCRIPTION:Join us at 9 am\, Monday\, Wednesday and Fridays for SAIL (Stay Active for Independent Living) Class taught by Angela. \n  \nCost is $35 per quarter (3 months).
URL:https://timberriverconnections.org/event/sail-exercise-class/
LOCATION:Twin Cities Center\, 2545 N National Ave\, Chehalis\, WA\, 98532\, United States
CATEGORIES:Fitness
END:VEVENT
BEGIN:VEVENT
DTSTART;TZID=UTC:20250517T180000
DTEND;TZID=UTC:20250517T200000
DTSTAMP:20260423T092831
CREATED:20250326T185914Z
LAST-MODIFIED:20250326T190144Z
UID:1749-1747504800-1747512000@timberriverconnections.org
SUMMARY:Sock Hop - Father Daughter Dance
DESCRIPTION:Ticket includes dinner\, dance\, photo booth and fun! \nPurchase your tickets here \n 
URL:https://timberriverconnections.org/event/sock-hop-father-daughter-dance/
LOCATION:Toledo Senior Center\, 150 Coal St\, Toledo\, WA\, 98591\, United States
CATEGORIES:Dance
END:VEVENT
BEGIN:VEVENT
DTSTART;TZID=UTC:20250415T180000
DTEND;TZID=UTC:20250415T200000
DTSTAMP:20260423T092831
CREATED:20250326T193913Z
LAST-MODIFIED:20250326T193913Z
UID:1754-1744740000-1744747200@timberriverconnections.org
SUMMARY:Ham Bingo
DESCRIPTION:All the prizes are Hams! \nDinner will be Nicole’s Delicious Chili and Baked Potatoes\, $10 a person! \nDoors open at 5:30\, game play starts at 6 pm. \nBingo cards are $5 each or 5 for $20. \nOpen to everyone\, join us for a fun night!
URL:https://timberriverconnections.org/event/ham-bingo/
LOCATION:WA
ATTACH;FMTTYPE=image/png:https://timberriverconnections.org/wp-content/uploads/2025/03/Untitled-1920-x-1080-px-e1743018272458.png
END:VEVENT
BEGIN:VEVENT
DTSTART;TZID=UTC:20250304T173000
DTEND;TZID=UTC:20250304T200000
DTSTAMP:20260423T092831
CREATED:20250303T195745Z
LAST-MODIFIED:20250311T033656Z
UID:1737-1741109400-1741118400@timberriverconnections.org
SUMMARY:Mardi Gras Bingo
DESCRIPTION:Mardi Gras Bingo
URL:https://timberriverconnections.org/event/mardi-gras-bingo/
LOCATION:Twin Cities Center\, 2545 N National Ave\, Chehalis\, WA\, 98532\, United States
CATEGORIES:Bingo,Community Event,Games
END:VEVENT
END:VCALENDAR