BEGIN:VCALENDAR
VERSION:2.0
PRODID:-//Timber River Connections - ECPv6.15.17.1//NONSGML v1.0//EN
CALSCALE:GREGORIAN
METHOD:PUBLISH
X-WR-CALNAME:Timber River Connections
X-ORIGINAL-URL:https://timberriverconnections.org
X-WR-CALDESC:Events for Timber River Connections
REFRESH-INTERVAL;VALUE=DURATION:PT1H
X-Robots-Tag:noindex
X-PUBLISHED-TTL:PT1H
BEGIN:VTIMEZONE
TZID:UTC
BEGIN:STANDARD
TZOFFSETFROM:+0000
TZOFFSETTO:+0000
TZNAME:UTC
DTSTART:20240101T000000
END:STANDARD
END:VTIMEZONE
BEGIN:VEVENT
DTSTART;TZID=UTC:20260417T100000
DTEND;TZID=UTC:20260417T130000
DTSTAMP:20260421T081900
CREATED:20260402T145246Z
LAST-MODIFIED:20260402T145246Z
UID:2280-1776420000-1776430800@timberriverconnections.org
SUMMARY:Live Music w/ Becky West
DESCRIPTION:Live Music – Becky West
URL:https://timberriverconnections.org/event/live-music-w-becky-west-3/
LOCATION:Twin Cities Center\, 2545 N National Ave\, Chehalis\, WA\, 98532\, United States
CATEGORIES:Music
END:VEVENT
BEGIN:VEVENT
DTSTART;TZID=UTC:20260410T100000
DTEND;TZID=UTC:20260410T130000
DTSTAMP:20260421T081900
CREATED:20260402T144823Z
LAST-MODIFIED:20260402T144823Z
UID:2276-1775815200-1775826000@timberriverconnections.org
SUMMARY:Live Music / Open Mic: The Dern Bros with Mark & Mike
DESCRIPTION:Friday\, Apr 10: Live Music/Open Mic 10 – 1 \nThe Dern Bros with Mark & Mike
URL:https://timberriverconnections.org/event/live-music-open-mic-the-dern-bros-with-mark-mike/
LOCATION:Twin Cities Center\, 2545 N National Ave\, Chehalis\, WA\, 98532\, United States
CATEGORIES:Music
END:VEVENT
BEGIN:VEVENT
DTSTART;TZID=UTC:20260327T110000
DTEND;TZID=UTC:20260327T140000
DTSTAMP:20260421T081900
CREATED:20260226T200247Z
LAST-MODIFIED:20260226T200247Z
UID:2098-1774609200-1774620000@timberriverconnections.org
SUMMARY:Becky West @ Twin Cities
DESCRIPTION:
URL:https://timberriverconnections.org/event/becky-west-twin-cities/
LOCATION:Twin Cities Center\, 2545 N National Ave\, Chehalis\, WA\, 98532\, United States
CATEGORIES:Dance,Music
END:VEVENT
BEGIN:VEVENT
DTSTART;TZID=UTC:20260320T100000
DTEND;TZID=UTC:20260320T130000
DTSTAMP:20260421T081900
CREATED:20260302T144828Z
LAST-MODIFIED:20260302T144828Z
UID:2167-1774000800-1774011600@timberriverconnections.org
SUMMARY:Live Music and Open Mic
DESCRIPTION:
URL:https://timberriverconnections.org/event/live-music-and-open-mic/
LOCATION:Twin Cities Center\, 2545 N National Ave\, Chehalis\, WA\, 98532\, United States
CATEGORIES:Community Event,Music
END:VEVENT
BEGIN:VEVENT
DTSTART;TZID=UTC:20260319T110000
DTEND;TZID=UTC:20260319T130000
DTSTAMP:20260421T081900
CREATED:20260226T194940Z
LAST-MODIFIED:20260226T194940Z
UID:2094-1773918000-1773925200@timberriverconnections.org
SUMMARY:Live Music @ Morton
DESCRIPTION:Rich Shatto is here to woo you.
URL:https://timberriverconnections.org/event/live-music-morton/
LOCATION:Morton Center\, 103 Westlake Ave\, Morton\, WA\, 98356\, United States
CATEGORIES:Dance,Music
END:VEVENT
BEGIN:VEVENT
DTSTART;TZID=UTC:20260313T100000
DTEND;TZID=UTC:20260313T140000
DTSTAMP:20260421T081900
CREATED:20260302T144620Z
LAST-MODIFIED:20260302T144620Z
UID:2163-1773396000-1773410400@timberriverconnections.org
SUMMARY:Live Music w/ Tomm O’lBrien
DESCRIPTION:
URL:https://timberriverconnections.org/event/live-music-w-tomm-olbrien/
LOCATION:Twin Cities Center\, 2545 N National Ave\, Chehalis\, WA\, 98532\, United States
CATEGORIES:Community Event,Music
END:VEVENT
BEGIN:VEVENT
DTSTART;TZID=UTC:20260305T110000
DTEND;TZID=UTC:20260305T130000
DTSTAMP:20260421T081900
CREATED:20260226T194848Z
LAST-MODIFIED:20260226T202029Z
UID:2092-1772708400-1772715600@timberriverconnections.org
SUMMARY:Live Music @ Morton
DESCRIPTION:Rich Shatto is here to entertain
URL:https://timberriverconnections.org/event/live-music/
LOCATION:Morton Center\, 103 Westlake Ave\, Morton\, WA\, 98356\, United States
CATEGORIES:Dance,Music
END:VEVENT
BEGIN:VEVENT
DTSTART;TZID=UTC:20260130T110000
DTEND;TZID=UTC:20260130T123000
DTSTAMP:20260421T081900
CREATED:20260108T180658Z
LAST-MODIFIED:20260108T180658Z
UID:2026-1769770800-1769776200@timberriverconnections.org
SUMMARY:Live Music w/ Becky West
DESCRIPTION:
URL:https://timberriverconnections.org/event/live-music-w-becky-west-2/
LOCATION:Twin Cities Center\, 2545 N National Ave\, Chehalis\, WA\, 98532\, United States
CATEGORIES:Music
END:VEVENT
BEGIN:VEVENT
DTSTART;TZID=UTC:20260121T110000
DTEND;TZID=UTC:20260121T120000
DTSTAMP:20260421T081900
CREATED:20260108T180610Z
LAST-MODIFIED:20260108T180610Z
UID:2024-1768993200-1768996800@timberriverconnections.org
SUMMARY:Live Music w/ Matt Gurley
DESCRIPTION:
URL:https://timberriverconnections.org/event/live-music-w-matt-gurley/
LOCATION:Twin Cities Center\, 2545 N National Ave\, Chehalis\, WA\, 98532\, United States
CATEGORIES:Music
END:VEVENT
BEGIN:VEVENT
DTSTART;TZID=UTC:20260116T100000
DTEND;TZID=UTC:20260116T120000
DTSTAMP:20260421T081900
CREATED:20260108T180235Z
LAST-MODIFIED:20260108T180235Z
UID:2010-1768557600-1768564800@timberriverconnections.org
SUMMARY:Live Music w/ Bart Herigstad
DESCRIPTION:
URL:https://timberriverconnections.org/event/live-music-w-bart-herigstad-2/
LOCATION:Twin Cities Center\, 2545 N National Ave\, Chehalis\, WA\, 98532\, United States
CATEGORIES:Music
END:VEVENT
BEGIN:VEVENT
DTSTART;TZID=UTC:20251225T000000
DTEND;TZID=UTC:20251225T235959
DTSTAMP:20260421T081900
CREATED:20251205T162734Z
LAST-MODIFIED:20251205T162734Z
UID:1971-1766620800-1766707199@timberriverconnections.org
SUMMARY:CLOSED FOR CHRISTMAS
DESCRIPTION:
URL:https://timberriverconnections.org/event/closed-for-christmas/
LOCATION:WA
CATEGORIES:Art,Bingo,Community Event,Crafts,Dance,Fitness,Games,Music
END:VEVENT
BEGIN:VEVENT
DTSTART;TZID=UTC:20251219T100000
DTEND;TZID=UTC:20251219T120000
DTSTAMP:20260421T081900
CREATED:20251205T162527Z
LAST-MODIFIED:20251205T162527Z
UID:1967-1766138400-1766145600@timberriverconnections.org
SUMMARY:Live Music with Matt Gurley
DESCRIPTION:
URL:https://timberriverconnections.org/event/live-music-with-matt-gurley/
LOCATION:Twin Cities Center\, 2545 N National Ave\, Chehalis\, WA\, 98532\, United States
CATEGORIES:Community Event,Music
END:VEVENT
BEGIN:VEVENT
DTSTART;TZID=UTC:20251121T110000
DTEND;TZID=UTC:20251121T123000
DTSTAMP:20260421T081900
CREATED:20251107T152325Z
LAST-MODIFIED:20251107T152325Z
UID:1927-1763722800-1763728200@timberriverconnections.org
SUMMARY:Live Music w/ Becky West
DESCRIPTION:
URL:https://timberriverconnections.org/event/live-music-w-becky-west/
LOCATION:Twin Cities Center\, 2545 N National Ave\, Chehalis\, WA\, 98532\, United States
CATEGORIES:Music
END:VEVENT
BEGIN:VEVENT
DTSTART;TZID=UTC:20251115T140000
DTEND;TZID=UTC:20251115T160000
DTSTAMP:20260421T081900
CREATED:20251107T152131Z
LAST-MODIFIED:20251107T152131Z
UID:1921-1763215200-1763222400@timberriverconnections.org
SUMMARY:Monthly Dinner & Dance
DESCRIPTION:
URL:https://timberriverconnections.org/event/monthly-dinner-dance/
LOCATION:Twin Cities Center\, 2545 N National Ave\, Chehalis\, WA\, 98532\, United States
CATEGORIES:Dance,Music
END:VEVENT
BEGIN:VEVENT
DTSTART;TZID=UTC:20251107T100000
DTEND;TZID=UTC:20251107T123000
DTSTAMP:20260421T081900
CREATED:20251107T152019Z
LAST-MODIFIED:20251107T152019Z
UID:1918-1762509600-1762518600@timberriverconnections.org
SUMMARY:Live Music w/ Bart Herigstad
DESCRIPTION:
URL:https://timberriverconnections.org/event/live-music-w-bart-herigstad/
LOCATION:Twin Cities Center\, 2545 N National Ave\, Chehalis\, WA\, 98532\, United States
CATEGORIES:Music
END:VEVENT
BEGIN:VEVENT
DTSTART;TZID=UTC:20251031T110000
DTEND;TZID=UTC:20251031T123000
DTSTAMP:20260421T081900
CREATED:20251003T175913Z
LAST-MODIFIED:20251003T175913Z
UID:1885-1761908400-1761913800@timberriverconnections.org
SUMMARY:Live Music w/ Becky West @ TRC Twin Cities Center
DESCRIPTION:
URL:https://timberriverconnections.org/event/live-music-w-becky-west-trc-twin-cities-center/
LOCATION:Twin Cities Center\, 2545 N National Ave\, Chehalis\, WA\, 98532\, United States
CATEGORIES:Music
END:VEVENT
BEGIN:VEVENT
DTSTART;TZID=UTC:20251024T170000
DTEND;TZID=UTC:20251024T193000
DTSTAMP:20260421T081900
CREATED:20251021T191149Z
LAST-MODIFIED:20251021T191149Z
UID:1906-1761325200-1761334200@timberriverconnections.org
SUMMARY:Dinner & Dance @ TRC Twin Cities Center
DESCRIPTION:
URL:https://timberriverconnections.org/event/dinner-dance-trc-twin-cities-center/
LOCATION:Twin Cities Center\, 2545 N National Ave\, Chehalis\, WA\, 98532\, United States
CATEGORIES:Music
END:VEVENT
BEGIN:VEVENT
DTSTART;TZID=UTC:20251017T100000
DTEND;TZID=UTC:20251017T123000
DTSTAMP:20260421T081900
CREATED:20251003T175519Z
LAST-MODIFIED:20251003T175519Z
UID:1878-1760695200-1760704200@timberriverconnections.org
SUMMARY:Live Music w/ Matt Gurley @ TRC Twin Cities Center
DESCRIPTION:
URL:https://timberriverconnections.org/event/live-music-w-matt-gurley-trc-twin-cities-center/
LOCATION:Twin Cities Center\, 2545 N National Ave\, Chehalis\, WA\, 98532\, United States
CATEGORIES:Community Event,Music
END:VEVENT
BEGIN:VEVENT
DTSTART;TZID=UTC:20250822T170000
DTEND;TZID=UTC:20250822T190000
DTSTAMP:20260421T081900
CREATED:20250808T175336Z
LAST-MODIFIED:20250808T175336Z
UID:1818-1755882000-1755889200@timberriverconnections.org
SUMMARY:Monthly Dinner & Dance @ TRC Twin Cities
DESCRIPTION:
URL:https://timberriverconnections.org/event/monthly-dinner-dance-trc-twin-cities/
LOCATION:Twin Cities Center\, 2545 N National Ave\, Chehalis\, WA\, 98532\, United States
CATEGORIES:Music
END:VEVENT
BEGIN:VEVENT
DTSTART;TZID=UTC:20250822T100000
DTEND;TZID=UTC:20250822T140000
DTSTAMP:20260421T081900
CREATED:20250808T175243Z
LAST-MODIFIED:20250808T175243Z
UID:1816-1755856800-1755871200@timberriverconnections.org
SUMMARY:Open Mic + Live Music w/ Vern & Darrin
DESCRIPTION:
URL:https://timberriverconnections.org/event/open-mic-live-music-w-vern-darrin-2/
LOCATION:Twin Cities Center\, 2545 N National Ave\, Chehalis\, WA\, 98532\, United States
CATEGORIES:Music
END:VEVENT
BEGIN:VEVENT
DTSTART;TZID=UTC:20250808T100000
DTEND;TZID=UTC:20250808T140000
DTSTAMP:20260421T081900
CREATED:20250808T174810Z
LAST-MODIFIED:20250808T174810Z
UID:1808-1754647200-1754661600@timberriverconnections.org
SUMMARY:Open Mic + Live Music w/ Vern & Darrin
DESCRIPTION:
URL:https://timberriverconnections.org/event/open-mic-live-music-w-vern-darrin/
LOCATION:Twin Cities Center\, 2545 N National Ave\, Chehalis\, WA\, 98532\, United States
CATEGORIES:Music
END:VEVENT
END:VCALENDAR