BEGIN:VCALENDAR
VERSION:2.0
PRODID:-//Timber River Connections - ECPv6.15.17.1//NONSGML v1.0//EN
CALSCALE:GREGORIAN
METHOD:PUBLISH
X-WR-CALNAME:Timber River Connections
X-ORIGINAL-URL:https://timberriverconnections.org
X-WR-CALDESC:Events for Timber River Connections
REFRESH-INTERVAL;VALUE=DURATION:PT1H
X-Robots-Tag:noindex
X-PUBLISHED-TTL:PT1H
BEGIN:VTIMEZONE
TZID:UTC
BEGIN:STANDARD
TZOFFSETFROM:+0000
TZOFFSETTO:+0000
TZNAME:UTC
DTSTART:20240101T000000
END:STANDARD
END:VTIMEZONE
BEGIN:VEVENT
DTSTART;TZID=UTC:20260421T093000
DTEND;TZID=UTC:20260421T113000
DTSTAMP:20260422T083615
CREATED:20260414T191759Z
LAST-MODIFIED:20260414T191759Z
UID:2324-1776763800-1776771000@timberriverconnections.org
SUMMARY:Exercise-Winlcok
DESCRIPTION:
URL:https://timberriverconnections.org/event/exercise-winlcok/
LOCATION:Winlock Center\, 119 Kerron Street\, Winlock\, WA\, 98596\, United States
CATEGORIES:Fitness
END:VEVENT
BEGIN:VEVENT
DTSTART;TZID=UTC:20260416T093000
DTEND;TZID=UTC:20260416T110000
DTSTAMP:20260422T083615
CREATED:20260414T191708Z
LAST-MODIFIED:20260414T191708Z
UID:2322-1776331800-1776337200@timberriverconnections.org
SUMMARY:Exercise-Winlock
DESCRIPTION:
URL:https://timberriverconnections.org/event/exercise-winlock/
LOCATION:Winlock Center\, 119 Kerron Street\, Winlock\, WA\, 98596\, United States
CATEGORIES:Fitness
END:VEVENT
BEGIN:VEVENT
DTSTART;TZID=UTC:20260416T093000
DTEND;TZID=UTC:20260416T103000
DTSTAMP:20260422T083615
CREATED:20260414T185434Z
LAST-MODIFIED:20260414T185434Z
UID:2310-1776331800-1776335400@timberriverconnections.org
SUMMARY:Exercise - Toledo
DESCRIPTION:
URL:https://timberriverconnections.org/event/exercise-toledo-2/
LOCATION:Toledo Senior Center\, 150 Coal St\, Toledo\, WA\, 98591\, United States
CATEGORIES:Fitness
END:VEVENT
BEGIN:VEVENT
DTSTART;TZID=UTC:20260414T093000
DTEND;TZID=UTC:20260414T103000
DTSTAMP:20260422T083615
CREATED:20260414T183859Z
LAST-MODIFIED:20260414T183859Z
UID:2306-1776159000-1776162600@timberriverconnections.org
SUMMARY:Exercise- Toledo
DESCRIPTION:
URL:https://timberriverconnections.org/event/exercise-toledo/
LOCATION:Toledo Senior Center\, 150 Coal St\, Toledo\, WA\, 98591\, United States
CATEGORIES:Fitness
END:VEVENT
BEGIN:VEVENT
DTSTART;TZID=UTC:20251225T000000
DTEND;TZID=UTC:20251225T235959
DTSTAMP:20260422T083615
CREATED:20251205T162734Z
LAST-MODIFIED:20251205T162734Z
UID:1971-1766620800-1766707199@timberriverconnections.org
SUMMARY:CLOSED FOR CHRISTMAS
DESCRIPTION:
URL:https://timberriverconnections.org/event/closed-for-christmas/
LOCATION:WA
CATEGORIES:Art,Bingo,Community Event,Crafts,Dance,Fitness,Games,Music
END:VEVENT
BEGIN:VEVENT
DTSTART;TZID=UTC:20250714T090000
DTEND;TZID=UTC:20250714T100000
DTSTAMP:20260422T083615
CREATED:20250711T185150Z
LAST-MODIFIED:20250711T185150Z
UID:1786-1752483600-1752487200@timberriverconnections.org
SUMMARY:SAIL Exercise Class
DESCRIPTION:Join us at 9 am\, Monday\, Wednesday and Fridays for SAIL (Stay Active for Independent Living) Class taught by Angela. \n  \nCost is $35 per quarter (3 months).
URL:https://timberriverconnections.org/event/sail-exercise-class/
LOCATION:Twin Cities Center\, 2545 N National Ave\, Chehalis\, WA\, 98532\, United States
CATEGORIES:Fitness
END:VEVENT
END:VCALENDAR