BEGIN:VCALENDAR
VERSION:2.0
PRODID:-//Timber River Connections - ECPv6.15.17.1//NONSGML v1.0//EN
CALSCALE:GREGORIAN
METHOD:PUBLISH
X-WR-CALNAME:Timber River Connections
X-ORIGINAL-URL:https://timberriverconnections.org
X-WR-CALDESC:Events for Timber River Connections
REFRESH-INTERVAL;VALUE=DURATION:PT1H
X-Robots-Tag:noindex
X-PUBLISHED-TTL:PT1H
BEGIN:VTIMEZONE
TZID:UTC
BEGIN:STANDARD
TZOFFSETFROM:+0000
TZOFFSETTO:+0000
TZNAME:UTC
DTSTART:20250101T000000
END:STANDARD
END:VTIMEZONE
BEGIN:VEVENT
DTSTART;TZID=UTC:20260420T120000
DTEND;TZID=UTC:20260420T123000
DTSTAMP:20260420T080424
CREATED:20260414T183156Z
LAST-MODIFIED:20260414T183156Z
UID:2296-1776686400-1776688200@timberriverconnections.org
SUMMARY:Cooks Choice Lunch
DESCRIPTION:This is an enrichment lunch.  $6
URL:https://timberriverconnections.org/event/cooks-choice-lunch/
LOCATION:Toledo Senior Center\, 150 Coal St\, Toledo\, WA\, 98591\, United States
CATEGORIES:Community Event
END:VEVENT
BEGIN:VEVENT
DTSTART;TZID=UTC:20260423T100000
DTEND;TZID=UTC:20260423T130000
DTSTAMP:20260420T080424
CREATED:20260226T200813Z
LAST-MODIFIED:20260226T200813Z
UID:2105-1776938400-1776949200@timberriverconnections.org
SUMMARY:Resource Fair @ Pe Ell
DESCRIPTION:
URL:https://timberriverconnections.org/event/resource-fair-pe-ell/
LOCATION:Pe Ell\, 416 1st Street S\, Pe Ell\, WA\, 98572\, United States
CATEGORIES:Community Event,Resource Fair
END:VEVENT
BEGIN:VEVENT
DTSTART;TZID=UTC:20260426T160000
DTEND;TZID=UTC:20260426T180000
DTSTAMP:20260420T080424
CREATED:20260327T201759Z
LAST-MODIFIED:20260327T201759Z
UID:2232-1777219200-1777226400@timberriverconnections.org
SUMMARY:Plant Bingo
DESCRIPTION:Plant Bingo 4-6 pm $5 a card and selling Kalama Sourdough pizza’s for dinner.
URL:https://timberriverconnections.org/event/plant-bingo/
LOCATION:Winlock Center\, 119 Kerron Street\, Winlock\, WA\, 98596\, United States
CATEGORIES:Community Event
END:VEVENT
END:VCALENDAR