BEGIN:VCALENDAR
VERSION:2.0
PRODID:-//Timber River Connections - ECPv6.15.17.1//NONSGML v1.0//EN
CALSCALE:GREGORIAN
METHOD:PUBLISH
X-WR-CALNAME:Timber River Connections
X-ORIGINAL-URL:https://timberriverconnections.org
X-WR-CALDESC:Events for Timber River Connections
REFRESH-INTERVAL;VALUE=DURATION:PT1H
X-Robots-Tag:noindex
X-PUBLISHED-TTL:PT1H
BEGIN:VTIMEZONE
TZID:UTC
BEGIN:STANDARD
TZOFFSETFROM:+0000
TZOFFSETTO:+0000
TZNAME:UTC
DTSTART:20250101T000000
END:STANDARD
END:VTIMEZONE
BEGIN:VEVENT
DTSTART;TZID=UTC:20260406T123000
DTEND;TZID=UTC:20260406T133000
DTSTAMP:20260420T091603
CREATED:20260327T203510Z
LAST-MODIFIED:20260327T203510Z
UID:2250-1775478600-1775482200@timberriverconnections.org
SUMMARY:Blood Pressure Check
DESCRIPTION:Stop in and have your blood pressure checked by the Packwood Fire Department.
URL:https://timberriverconnections.org/event/blood-pressure-check-6/
LOCATION:Packwood Center\, 12931 US-12\, Packwood\, Washington\, 98361
CATEGORIES:Community Event
END:VEVENT
END:VCALENDAR