BEGIN:VCALENDAR
VERSION:2.0
PRODID:-//Timber River Connections - ECPv6.15.17.1//NONSGML v1.0//EN
CALSCALE:GREGORIAN
METHOD:PUBLISH
X-ORIGINAL-URL:https://timberriverconnections.org
X-WR-CALDESC:Events for Timber River Connections
REFRESH-INTERVAL;VALUE=DURATION:PT1H
X-Robots-Tag:noindex
X-PUBLISHED-TTL:PT1H
BEGIN:VTIMEZONE
TZID:UTC
BEGIN:STANDARD
TZOFFSETFROM:+0000
TZOFFSETTO:+0000
TZNAME:UTC
DTSTART:20240101T000000
END:STANDARD
END:VTIMEZONE
BEGIN:VEVENT
DTSTART;TZID=UTC:20251008T100000
DTEND;TZID=UTC:20251008T110000
DTSTAMP:20260423T092402
CREATED:20251003T175101Z
LAST-MODIFIED:20251003T175143Z
UID:1872-1759917600-1759921200@timberriverconnections.org
SUMMARY:Webinar Classes
DESCRIPTION:
URL:https://timberriverconnections.org/event/webinar-classes/
LOCATION:Twin Cities Center\, 2545 N National Ave\, Chehalis\, WA\, 98532\, United States
CATEGORIES:Community Event
END:VEVENT
BEGIN:VEVENT
DTSTART;TZID=UTC:20251008T110000
DTEND;TZID=UTC:20251008T130000
DTSTAMP:20260423T092402
CREATED:20251003T175243Z
LAST-MODIFIED:20251003T175243Z
UID:1874-1759921200-1759928400@timberriverconnections.org
SUMMARY:LMTAAA @ TRC Twin Cities Center
DESCRIPTION:
URL:https://timberriverconnections.org/event/lmtaaa-trc-twin-cities-center/
LOCATION:Twin Cities Center\, 2545 N National Ave\, Chehalis\, WA\, 98532\, United States
CATEGORIES:Community Event
END:VEVENT
END:VCALENDAR